BEGIN:VCALENDAR
VERSION:2.0
PRODID:-//ChamberMaster//Event Calendar 2.0//EN
METHOD:PUBLISH
X-PUBLISHED-TTL:P3D
REFRESH-INTERVAL:P3D
CALSCALE:GREGORIAN
BEGIN:VEVENT
DTSTART:20180601T130000Z
DTEND:20180825T210000Z
X-MICROSOFT-CDO-ALLDAYEVENT:FALSE
SUMMARY:RGV Family Summer Adventure Challenge
DESCRIPTION:Spend all summer enjoying the outdoors with the RGV Family Summer Adventure Challenge\, May 26 - August 25\, 2018. The Challenge is a chance to spend quality time together while visiting different nature centers and parks in the Rio Grande Valley and\, upon completion of the challenges\, an opportunity to win cool prizes!
X-ALT-DESC;FMTTYPE=text/html:Spend all summer enjoying the outdoors with the RGV Family Summer Adventure Challenge\, May 26 - August 25\, 2018. The Challenge is a chance to spend quality time together while visiting different nature centers and parks in the Rio Grande Valley and\, upon completion of the challenges\, an opportunity to win cool prizes!
LOCATION:Laguna Atascosa National Wildlife Refuge
UID:e.1294.30420
SEQUENCE:3
DTSTAMP:20260423T055933Z
URL:https://business.rgvpartnership.com/events/details/rgv-family-summer-adventure-challenge-06-01-2018-30420
END:VEVENT

END:VCALENDAR
