BEGIN:VCALENDAR
VERSION:2.0
PRODID:-//ChamberMaster//Event Calendar 2.0//EN
METHOD:PUBLISH
X-PUBLISHED-TTL:P3D
REFRESH-INTERVAL:P3D
CALSCALE:GREGORIAN
BEGIN:VEVENT
DTSTART:20150716T223000Z
DTEND:20150717T000000Z
X-MICROSOFT-CDO-ALLDAYEVENT:FALSE
SUMMARY:Reptile Ruckus
DESCRIPTION:Summertime is when reptiles are truly out and about! Bring your family and enjoy interesting reptile displays\, giving kids and parents a close-up look at these amazing creatures while learning about some of their special adaptations. A walk will be scheduled during the program\, allowing participants to see reptiles in their natural habitat. Everything from sunbathing turtles to slithering snakes can be seen here at the EWBC! Fee: Regular Admission Time: 5:30-7:00 p.m. For information call (956) 381-9922 or visit online at www.edinburgwbc.org.
X-ALT-DESC;FMTTYPE=text/html:Summertime is when reptiles are truly out and about! Bring your family and enjoy interesting reptile displays\, giving kids and parents a close-up look at these amazing creatures while learning about some of their special adaptations. A walk will be scheduled during the program\, allowing participants to see reptiles in their natural habitat. Everything from sunbathing turtles to slithering snakes can be seen here at the EWBC! Fee: Regular Admission Time: 5:30-7:00 p.m. For information call (956) 381-9922 or visit online at www.edinburgwbc.org.
LOCATION:Edinburg Scenic Wetlands & World Birding Center. 714 Raul Longoria RD\, Edinburg TX 78542
UID:e.1294.30195
SEQUENCE:3
DTSTAMP:20260425T103132Z
URL:https://business.rgvpartnership.com/events/details/reptile-ruckus-07-16-2015-30195
END:VEVENT

END:VCALENDAR
