BEGIN:VCALENDAR
VERSION:2.0
PRODID:-//ChamberMaster//Event Calendar 2.0//EN
METHOD:PUBLISH
X-PUBLISHED-TTL:P3D
REFRESH-INTERVAL:P3D
CALSCALE:GREGORIAN
BEGIN:VEVENT
DTSTART;VALUE=DATE:20160603
DTEND;VALUE=DATE:20160604
TRANSP:TRANSPARENT
X-MICROSOFT-CDO-ALLDAYEVENT:TRUE
SUMMARY:Registration Deadline for Historical Mystery Tour
DESCRIPTION:Seats are filling up fast. Come take a tour of the most recognized sites in the city of Mission with the Mission Historical Museum.
X-ALT-DESC;FMTTYPE=text/html:Seats are filling up fast. Come take a tour of the most recognized sites in the city of Mission with the Mission Historical Museum.
LOCATION:Mission Historical Museum 900 Doherty\, Ave. Mission\, TX\, 78572
UID:e.1294.30290
SEQUENCE:3
DTSTAMP:20260424T183707Z
URL:https://business.rgvpartnership.com/events/details/registration-deadline-for-historical-mystery-tour-06-03-2016-30290
END:VEVENT

END:VCALENDAR
