BEGIN:VCALENDAR
VERSION:2.0
PRODID:-//ChamberMaster//Event Calendar 2.0//EN
METHOD:PUBLISH
X-PUBLISHED-TTL:P3D
REFRESH-INTERVAL:P3D
CALSCALE:GREGORIAN
BEGIN:VEVENT
DTSTART:20150502T123000Z
DTEND:20150502T203000Z
X-MICROSOFT-CDO-ALLDAYEVENT:FALSE
SUMMARY:Rancho Lomitas
DESCRIPTION:Travel with the EWBC staff to the Rio Grande City area and tour the brushland of Rancho Lomitas. Ranch owner and ethnobotanist\, Benito Trevino\, will lead the group around the scenic ranch and discuss how native plants have helped local people survive in our harsh environment. Also\, discover the medicinal heritage of the Rio Grande Valley during this fascinating excursion. RR. DATE: Friday\, May 2nd TIME: 7:30 a.m. - 3:30 p.m. FEE: $20 members (Winter membership excluded). $25 non members. RR: Reservations Required Please make reservations AT LEAST TWO DAYS IN ADVANCE\, unless otherwise noted\, by calling us at (956) 381-9922.
X-ALT-DESC;FMTTYPE=text/html:Travel with the EWBC staff to the Rio Grande City area and tour the brushland of Rancho Lomitas. Ranch owner and ethnobotanist\, Benito Trevino\, will lead the group around the scenic ranch and discuss how native plants have helped local people survive in our harsh environment. Also\, discover the medicinal heritage of the Rio Grande Valley during this fascinating excursion. RR. DATE: Friday\, May 2nd TIME: 7:30 a.m. - 3:30 p.m. FEE: $20 members (Winter membership excluded). $25 non members. RR: Reservations Required Please make reservations AT LEAST TWO DAYS IN ADVANCE\, unless otherwise noted\, by calling us at (956) 381-9922.
LOCATION:Edinburg Scenic Wetlands & World Birding Center. 714 Raul Longoria Rd. Edinburg\, TX 78540
UID:e.1294.30225
SEQUENCE:3
DTSTAMP:20260425T155722Z
URL:https://business.rgvpartnership.com/events/details/rancho-lomitas-05-02-2015-30225
END:VEVENT

END:VCALENDAR
