BEGIN:VCALENDAR
VERSION:2.0
PRODID:-//ChamberMaster//Event Calendar 2.0//EN
METHOD:PUBLISH
X-PUBLISHED-TTL:P3D
REFRESH-INTERVAL:P3D
CALSCALE:GREGORIAN
BEGIN:VEVENT
DTSTART:20150301T180000Z
DTEND:20150301T230000Z
X-MICROSOFT-CDO-ALLDAYEVENT:FALSE
SUMMARY:Quinceañera & Wedding Fair
DESCRIPTION:Don't miss the RGV's largest event of the year for brides AND teens! The Quincea era & Wedding Fair\, Sun. March 1st\, 12-5pm\, at the McAllen Convention Center! One stop shopping for your special day. Fashions\, food and fun! Over 75 booths! The first 100 brides\, AND 100 quincea eras will receive $500. 00 in show bucks to spend with participating vendors at the event! Limited vendor space still available! Call 1-888-828-1314 for more information or visit www.quinceaneraevents.com or wwww.weddingfairevents.com.
X-ALT-DESC;FMTTYPE=text/html:Don&#39\;t miss the RGV&#39\;s largest event of the year for brides AND teens! The Quincea&ntilde\;era &amp\; Wedding Fair\, Sun. March 1st\, 12-5pm\, at the McAllen Convention Center! One stop shopping for your special day. Fashions\, food and fun! Over 75 booths! The first 100 brides\, AND 100 quincea&ntilde\;eras will receive $500. 00 in show bucks to spend with participating vendors at the event! Limited vendor space still available! Call 1-888-828-1314 for more information or visit www.quinceaneraevents.com or wwww.weddingfairevents.com.
LOCATION:McAllen Convention Center
UID:e.1294.30154
SEQUENCE:3
DTSTAMP:20260425T185558Z
URL:https://business.rgvpartnership.com/events/details/quincea&#241;era-wedding-fair-03-01-2015-30154
END:VEVENT

END:VCALENDAR
