BEGIN:VCALENDAR
VERSION:2.0
PRODID:-//ChamberMaster//Event Calendar 2.0//EN
METHOD:PUBLISH
X-PUBLISHED-TTL:P3D
REFRESH-INTERVAL:P3D
CALSCALE:GREGORIAN
BEGIN:VEVENT
DTSTART:20150404T200000Z
DTEND:20150404T210000Z
X-MICROSOFT-CDO-ALLDAYEVENT:FALSE
SUMMARY:Project Martin Watch
DESCRIPTION:Project Martin Watch is a continent-wide scientific project where volunteers monitor martin nests from the beginning of nest construction until the last fledgling has left. The data collected by our Project Martin Task Force will help scientists determine the population?s reproductive success throughout its habitat range. The EWBC invites individuals\, ages 16 and older\, to join our Project Martin Task Force. Members will meet to collect data every Tuesday and Saturday\, from April thru July. Citizen science projects are meant for citizens with education levels of all types. If you have any interest in supporting this amazing cause we highly encourage you to join us. Please call us ahead of time to register. For more information call (956)381-9922 or visit www.edinburgwbc.org.
X-ALT-DESC;FMTTYPE=text/html:Project Martin Watch is a continent-wide scientific project where volunteers monitor martin nests from the beginning of nest construction until the last fledgling has left. The data collected by our Project Martin Task Force will help scientists determine the population?s reproductive success throughout its habitat range. The EWBC invites individuals\, ages 16 and older\, to join our Project Martin Task Force. Members will meet to collect data every Tuesday and Saturday\, from April thru July. Citizen science projects are meant for citizens with education levels of all types. If you have any interest in supporting this amazing cause we highly encourage you to join us. Please call us ahead of time to register. For more information call (956)381-9922 or visit www.edinburgwbc.org.
LOCATION:World Birding Center\, 714 South Raul Longoria Road\, Edinburg\, TX 78542\, United States
UID:e.1294.30174
SEQUENCE:3
DTSTAMP:20260425T173903Z
URL:https://business.rgvpartnership.com/events/details/project-martin-watch-04-04-2015-30174
END:VEVENT

END:VCALENDAR
