BEGIN:VCALENDAR
VERSION:2.0
PRODID:-//ChamberMaster//Event Calendar 2.0//EN
METHOD:PUBLISH
X-PUBLISHED-TTL:P3D
REFRESH-INTERVAL:P3D
CALSCALE:GREGORIAN
BEGIN:VEVENT
DTSTART:20191102T150000Z
DTEND:20191102T210000Z
X-MICROSOFT-CDO-ALLDAYEVENT:FALSE
SUMMARY:Port Isabel Shrimp & Seafood Festival
DESCRIPTION:The Port Isabel Shrimp Cookoff & Seafood Festival is set for Saturday\, November 2\, 2019\, from 10:00 am-4:00 pm. Dozens of contestants and thousands of attendees will be treated to the world-famous shrimp recipes and a variety of family entertainment. The festival is a favorite among area residents and visitors\, it tests the skills of amateur and professional chefs from throughout the Rio Grande Valley. Contestants are judged on the appearance\, aroma\, and taste of their specialty dishes. Samples are available to attendees for a modest fee.
X-ALT-DESC;FMTTYPE=text/html:The Port Isabel Shrimp Cookoff &amp\; Seafood Festival is set for Saturday\, November 2\, 2019\, from 10:00 am-4:00 pm. Dozens of contestants and thousands of attendees will be treated to the world-famous shrimp recipes and a variety of family entertainment. The festival is a favorite among area residents and visitors\, it tests the skills of amateur and professional chefs from throughout the Rio Grande Valley. Contestants are judged on the appearance\, aroma\, and taste of their specialty dishes. Samples are available to attendees for a modest fee.
LOCATION:1723 TX-Hwy 100 Port Isabel\, Texas 78578
UID:e.1294.30445
SEQUENCE:3
DTSTAMP:20260422T083737Z
URL:https://business.rgvpartnership.com/events/details/port-isabel-shrimp-seafood-festival-30445
END:VEVENT

END:VCALENDAR
