BEGIN:VCALENDAR
VERSION:2.0
PRODID:-//ChamberMaster//Event Calendar 2.0//EN
METHOD:PUBLISH
X-PUBLISHED-TTL:P3D
REFRESH-INTERVAL:P3D
CALSCALE:GREGORIAN
BEGIN:VEVENT
DTSTART:20141026T010000Z
DTEND:20141026T010000Z
X-MICROSOFT-CDO-ALLDAYEVENT:FALSE
SUMMARY:Port Isabel Historic Ghost Tours
DESCRIPTION:One Hour walking tour begins at the Port Isabel Lighthouse.
X-ALT-DESC;FMTTYPE=text/html:One Hour walking tour begins at the Port Isabel Lighthouse.&nbsp\; 
LOCATION:Port Isabel Lighthouse.
UID:e.1294.29787
SEQUENCE:3
DTSTAMP:20260426T023742Z
URL:https://business.rgvpartnership.com/events/details/port-isabel-historic-ghost-tours-10-25-2014-29787
END:VEVENT

END:VCALENDAR
