BEGIN:VCALENDAR
VERSION:2.0
PRODID:-//ChamberMaster//Event Calendar 2.0//EN
METHOD:PUBLISH
X-PUBLISHED-TTL:P3D
REFRESH-INTERVAL:P3D
CALSCALE:GREGORIAN
BEGIN:VEVENT
DTSTART;VALUE=DATE:20141005
DTEND;VALUE=DATE:20141006
TRANSP:TRANSPARENT
X-MICROSOFT-CDO-ALLDAYEVENT:TRUE
SUMMARY:Port Isabel Antique Flea Market
DESCRIPTION:Held the 1st Sunday of each month.  For vendor information contact Gloria Bates.
X-ALT-DESC;FMTTYPE=text/html:Held the 1st Sunday of each month.&nbsp\; For vendor information contact Gloria Bates.
LOCATION:Beulah Lee Park
UID:e.1294.28583
SEQUENCE:3
DTSTAMP:20260426T023834Z
URL:https://business.rgvpartnership.com/events/details/port-isabel-antique-flea-market-10-05-2014-28583
END:VEVENT

END:VCALENDAR
