BEGIN:VCALENDAR
VERSION:2.0
PRODID:-//ChamberMaster//Event Calendar 2.0//EN
METHOD:PUBLISH
X-PUBLISHED-TTL:P3D
REFRESH-INTERVAL:P3D
CALSCALE:GREGORIAN
BEGIN:VEVENT
DTSTART:20150104T150000Z
DTEND:20150104T220000Z
X-MICROSOFT-CDO-ALLDAYEVENT:FALSE
SUMMARY:Port Isabel Antique Flea Market
DESCRIPTION:Held the 1st  and 3rd Sunday of each month.  For vendor information contact Gloria Bates.
X-ALT-DESC;FMTTYPE=text/html:Held the 1st&nbsp\; and 3rd Sunday of each month.&nbsp\; For vendor information contact Gloria Bates.
LOCATION:Beulah Lee Park
UID:e.1294.30114
SEQUENCE:3
DTSTAMP:20260425T215539Z
URL:https://business.rgvpartnership.com/events/details/port-isabel-antique-flea-market-01-04-2015-30114
END:VEVENT

END:VCALENDAR
