BEGIN:VCALENDAR
VERSION:2.0
PRODID:-//ChamberMaster//Event Calendar 2.0//EN
METHOD:PUBLISH
X-PUBLISHED-TTL:P3D
REFRESH-INTERVAL:P3D
CALSCALE:GREGORIAN
BEGIN:VEVENT
DTSTART:20150616T133000Z
DTEND:20150619T163000Z
X-MICROSOFT-CDO-ALLDAYEVENT:FALSE
SUMMARY:Polliwogs Camp
DESCRIPTION:The Annual Polliwogs Nature Camp is about to get underway at The Edinburg Scenic Wetlands & World Birding Center (EWBC). Polliwogs Nature Camp is designed especially for young children and will introduce them to the amazing world of nature. Each day will feature a different theme such as birds\, insects\, frogs\, and more. Children will love this engaging camp that is sure to inspire a love for nature through a fusion of outdoor games\, crafts\, reading\, puppets and so much more. This interactive camp will leave your children seeking more from the outside world. The Polliwogs Nature Camp is for children ages 4 to 6. Polliwogs Nature Camp is a four day camp that will run from Tuesday\, June 16th to Friday\, June 19th. The camp times are 8:30 a.m. to 11:30 a.m. Healthy snacks will be provided. The fee for this camp is $24 for EWBC members and $30 for non-members. Space is limited so call ahead to register no later than one week before the start of camp. For more information call (956)381-9922 or visit www.edinburgwbc.org.
X-ALT-DESC;FMTTYPE=text/html:The Annual Polliwogs Nature Camp is about to get underway at The Edinburg Scenic Wetlands &amp\; World Birding Center (EWBC). Polliwogs Nature Camp is designed especially for young children and will introduce them to the amazing world of nature. Each day will feature a different theme such as birds\, insects\, frogs\, and more. Children will love this engaging camp that is sure to inspire a love for nature through a fusion of outdoor games\, crafts\, reading\, puppets and so much more. This interactive camp will leave your children seeking more from the outside world. The Polliwogs Nature Camp is for children ages 4 to 6. Polliwogs Nature Camp is a four day camp that will run from Tuesday\, June 16th to Friday\, June 19th. The camp times are 8:30 a.m. to 11:30 a.m. Healthy snacks will be provided. The fee for this camp is $24 for EWBC members and $30 for non-members. Space is limited so call ahead to register no later than one week before the start of camp. For more information call (956)381-9922 or visit www.edinburgwbc.org.
LOCATION:World Birding Center\, South Raul Longoria Road\, Edinburg\, TX\, United States
UID:e.1294.30190
SEQUENCE:3
DTSTAMP:20260424T001042Z
URL:https://business.rgvpartnership.com/events/details/polliwogs-camp-06-16-2015-30190
END:VEVENT

END:VCALENDAR
