BEGIN:VCALENDAR
VERSION:2.0
PRODID:-//ChamberMaster//Event Calendar 2.0//EN
METHOD:PUBLISH
X-PUBLISHED-TTL:P3D
REFRESH-INTERVAL:P3D
CALSCALE:GREGORIAN
BEGIN:VEVENT
DTSTART:20160816T140000Z
DTEND:20160816T160000Z
X-MICROSOFT-CDO-ALLDAYEVENT:FALSE
SUMMARY:PleinAire Sketching
DESCRIPTION:Every Sunny  Tuesday. Workshop with Virginia Eggert. A supply list is available at the Gallery.
X-ALT-DESC;FMTTYPE=text/html:Every <u>Sunny</u>&nbsp\; Tuesday.&nbsp\;Workshop with Virginia Eggert.&nbsp\;A supply list is available at the Gallery.
LOCATION:Laguna Madre Art League 405 E. Maxan Port Isabel
UID:e.1294.28767
SEQUENCE:3
DTSTAMP:20260424T155118Z
URL:https://business.rgvpartnership.com/events/details/pleinaire-sketching-08-16-2016-28767
END:VEVENT

END:VCALENDAR
