BEGIN:VCALENDAR
VERSION:2.0
PRODID:-//ChamberMaster//Event Calendar 2.0//EN
METHOD:PUBLISH
X-PUBLISHED-TTL:P3D
REFRESH-INTERVAL:P3D
CALSCALE:GREGORIAN
BEGIN:VEVENT
DTSTART:20150404T133000Z
DTEND:20150404T153000Z
X-MICROSOFT-CDO-ALLDAYEVENT:FALSE
SUMMARY:Planting Day
DESCRIPTION:Join us at the EWBC as we expand our habitat by planting in new beds across the street from our parking lot! Help us in establishing plants for butterflies and other insects as well as the birds and learn useful tips on how to plant natives in your own yard. Contact Monica Barrera at 956-381-9922 to sign up to volunteer. Water and tools will be provided\, but volunteers may bring their own as well.
X-ALT-DESC;FMTTYPE=text/html:Join us at the EWBC as we expand our habitat by planting in new beds across the street from our parking lot! Help us in establishing plants for butterflies and other insects as well as the birds and learn useful tips on how to plant natives in your own yard. Contact Monica Barrera at 956-381-9922 to sign up to volunteer. Water and tools will be provided\, but volunteers may bring their own as well.
LOCATION:Edinburg Scenic Wetlands & World Birding Center. 714 Raul Longoria RD\, Edinburg TX 78542
UID:e.1294.30172
SEQUENCE:3
DTSTAMP:20260425T105358Z
URL:https://business.rgvpartnership.com/events/details/planting-day-04-04-2015-30172
END:VEVENT

END:VCALENDAR
