BEGIN:VCALENDAR
VERSION:2.0
PRODID:-//ChamberMaster//Event Calendar 2.0//EN
METHOD:PUBLISH
X-PUBLISHED-TTL:P3D
REFRESH-INTERVAL:P3D
CALSCALE:GREGORIAN
BEGIN:VEVENT
DTSTART:20160111T023000Z
DTEND:20160418T023000Z
X-MICROSOFT-CDO-ALLDAYEVENT:FALSE
SUMMARY:PIanist Dan Oettel live
DESCRIPTION:Award winning piano composer Dan Oettel live at the valley's best coffee shop. El Hueso del Fraile on Elizabeth in Brownsville
X-ALT-DESC;FMTTYPE=text/html:Award winning piano composer Dan Oettel live at the valley&#39\;s best coffee shop. El Hueso del Fraile on Elizabeth in Brownsville
LOCATION:Elizabeth St.
UID:e.1294.30270
SEQUENCE:3
DTSTAMP:20260424T212213Z
URL:https://business.rgvpartnership.com/events/details/pianist-dan-oettel-live-01-10-2016-30270
END:VEVENT

END:VCALENDAR
