BEGIN:VCALENDAR
VERSION:2.0
PRODID:-//ChamberMaster//Event Calendar 2.0//EN
METHOD:PUBLISH
X-PUBLISHED-TTL:P3D
REFRESH-INTERVAL:P3D
CALSCALE:GREGORIAN
BEGIN:VEVENT
DTSTART;VALUE=DATE:20170211
DTEND;VALUE=DATE:20170305
TRANSP:TRANSPARENT
X-MICROSOFT-CDO-ALLDAYEVENT:TRUE
SUMMARY:Photographic Art Show
DESCRIPTION:The Upper Valley Art League's annual Photographic Art Show will open with a reception on Sat. Feb. 11 from 7-9 p.m at the Kika de la Garza Fine arts Center\, 921 E. 12th St. in Mission. The exhibition will include artwork by members of UVAL's Photography Group and general members. The exhibition runs through Mar. 4. The Upper Valley Art League is a membership-based nonprofit arts organization dedicated to teaching\, preserving and inspiring the arts in the RGV. For additional information about UVAL\, its classes\, events and exhibitions\, visit the website at uppervalleyartleague.org or call 956-583-2787. Socialize with us on Facebook and Instagram.
X-ALT-DESC;FMTTYPE=text/html:The Upper Valley Art League&rsquo\;s annual Photographic Art Show will open with a reception on Sat. Feb. 11 from 7-9 p.m at the Kika de la Garza Fine arts Center\, 921 E. 12th St. in Mission. The exhibition will include artwork by members of UVAL&rsquo\;s Photography Group and general members. The exhibition runs through Mar. 4. The Upper Valley Art League is a membership-based nonprofit arts organization dedicated to teaching\, preserving and inspiring the arts in the RGV. For additional information about UVAL\, its classes\, events and exhibitions\, visit the website at uppervalleyartleague.org or call 956-583-2787. Socialize with us on Facebook and Instagram.
LOCATION:Kika de la Garza Fine Arts Center 921 E. 12th St. Mission\, TX
UID:e.1294.30379
SEQUENCE:3
DTSTAMP:20260424T054517Z
URL:https://business.rgvpartnership.com/events/details/photographic-art-show-30379
END:VEVENT

END:VCALENDAR
