BEGIN:VCALENDAR
VERSION:2.0
PRODID:-//ChamberMaster//Event Calendar 2.0//EN
METHOD:PUBLISH
X-PUBLISHED-TTL:P3D
REFRESH-INTERVAL:P3D
CALSCALE:GREGORIAN
BEGIN:VEVENT
DTSTART:20141121T020000Z
DTEND:20141121T020000Z
X-MICROSOFT-CDO-ALLDAYEVENT:FALSE
SUMMARY:Peter Pan STC Theatre
DESCRIPTION:South Texas College Theatre is ready to fly off to Neverland with their first main stage production of the season - J.M. Barrie's Peter Pan\, or The Boy Who Would Not Grow Up.\n\nThis is the beloved story of Peter\, Wendy\, Michael\, John\, Capt. Hook\, Smee\, the Lost Boys\, pirates\, Indians\, and\, of course\, Tinker Bell\, in their adventures in Neverland. However\, for the first time\, the play is restored to Barrie's original intentions by John Caird and Trevor Nunn.\n\n \n\nIn this new revision\, Caird and Nunn have taken the many different versions of Peter Pan and created a new character\, the Storyteller\, who is the author himself. As the play progresses\, the audience has the opportunity to hear Barrie's commentary parallel with the other characters which gives the audience a deeper understanding of the Darling family and his own conclusion to Peter and Wendy's story.\n\n \n\n"I have loved the story of Peter Pan since I was a child. My mom took me to see the film and from that moment on I desperately wanted to be a Lost Boy and live in Neverland\," says Peter Pan Director Joel Jason Rodriguez. "As I grew older\, I started to appreciate the complexity of the story and its themes of family\, adolescents\, imagination\, and love.  This is a story that has proven to have something for everyone. This is going to be an incredibly fun and amazing production."\n\nThe Sunday\, March 2 matinee production will be interpreted in American Sign by graduates of STC's Interpreting Training Program.
X-ALT-DESC;FMTTYPE=text/html:<span style="font-family: &quot\;Calibri&quot\;\,sans-serif\; font-size: 11pt\; mso-fareast-font-family: Calibri\; mso-fareast-theme-font: minor-latin\; mso-bidi-font-family: &quot\;Times New Roman&quot\;\; mso-ansi-language: EN-US\; mso-fareast-language: EN-US\; mso-bidi-language: AR-SA\;"><font color="#000000">South Texas College Theatre is ready to fly off to Neverland with their first main stage production of the season - J.M. Barrie&rsquo\;s <i>Peter Pan\, or The Boy Who Would Not Grow Up.</i></font></span><br />\n<span style="background: white\;"><span style="font-size: medium\;"><span style="font-family: calibri\;">This is the beloved story of Peter\, Wendy\, Michael\, John\, Capt. Hook\, Smee\, the Lost Boys\, pirates\, Indians\, and\, of course\, Tinker Bell\, in their adventures in Neverland. However\, for the first time\, the play is restored to Barrie&#39\;s original intentions by John Caird and Trevor Nunn.</span></span></span><br />\n&nbsp\;<br />\n<span style="background: white\;"><span style="font-size: medium\;"><span style="font-family: calibri\;">In this new revision\, Caird and Nunn have taken the many different versions of Peter Pan and created a new character\, the Storyteller\, who is the author himself. As the play progresses\, the audience has the opportunity to hear Barrie&rsquo\;s commentary parallel with the other characters which gives the audience a deeper understanding of the Darling family and his own conclusion to Peter and Wendy&rsquo\;s story.</span></span></span><br />\n&nbsp\;<br />\n<span style="background: white\;"><span style="font-size: medium\;"><span style="font-family: calibri\;">&ldquo\;I have loved the story of Peter Pan since I was a child. My mom took me to see the film and from that moment on I desperately wanted to be a Lost Boy and live in Neverland\,&rdquo\; says <em>Peter Pan </em>Director Joel Jason Rodriguez. &ldquo\;As I grew older\, I started to appreciate the complexity of the story and its themes of family\, adolescents\, imagination\, and love.&nbsp\; This is a story that has proven to have something for everyone. This is going to be an incredibly fun and amazing production.&rdquo\;</span></span></span><br />\n<font face="Calibri" size="3">The Sunday\, March 2 matinee production will be interpreted in American Sign by graduates of STC&rsquo\;s Interpreting Training Program.</font>
LOCATION:STC's Cooper Center for Communication Arts Main Stage\, located at 3201 W. Pecan Blvd. in McAllen.
UID:e.1294.30105
SEQUENCE:3
DTSTAMP:20260426T010113Z
URL:https://business.rgvpartnership.com/events/details/peter-pan-stc-theatre-11-20-2014-30105
END:VEVENT

END:VCALENDAR
