BEGIN:VCALENDAR
VERSION:2.0
PRODID:-//ChamberMaster//Event Calendar 2.0//EN
METHOD:PUBLISH
X-PUBLISHED-TTL:P3D
REFRESH-INTERVAL:P3D
CALSCALE:GREGORIAN
BEGIN:VEVENT
DTSTART:20141025T170000Z
DTEND:20141025T210000Z
X-MICROSOFT-CDO-ALLDAYEVENT:FALSE
SUMMARY:PAWchanga
DESCRIPTION:PAWchanga is a free admission family oriented event supporting Rio Grande Valley Therapy Pets. Human and dog costume contest\, Can Your Dog Do This? obedience challenge\, chalk art contest and more family fun. Pendleton Park Pavilion in Harlingen.
X-ALT-DESC;FMTTYPE=text/html:PAWchanga is a free admission family oriented event supporting Rio Grande Valley Therapy Pets. Human and dog costume contest\, Can Your Dog Do This? obedience challenge\, chalk art contest and more family fun. Pendleton Park Pavilion in Harlingen.
LOCATION:Pendleton Park Pavilion\, Harlingen.
UID:e.1294.30074
SEQUENCE:3
DTSTAMP:20260426T023643Z
URL:https://business.rgvpartnership.com/events/details/pawchanga-10-25-2014-30074
END:VEVENT

END:VCALENDAR
