BEGIN:VCALENDAR
VERSION:2.0
PRODID:-//ChamberMaster//Event Calendar 2.0//EN
METHOD:PUBLISH
X-PUBLISHED-TTL:P3D
REFRESH-INTERVAL:P3D
CALSCALE:GREGORIAN
BEGIN:VEVENT
DTSTART:20150309T190000Z
DTEND:20150315T150000Z
X-MICROSOFT-CDO-ALLDAYEVENT:FALSE
SUMMARY:Outdoor Camping Skills Week
DESCRIPTION:What will you be doing during your week off for Spring Break? Would you like to learn camping skills in the great outdoors? Then stop by at the Edinburg Scenic Wetlands & World Birding Center (EWBC) for a great opportunity of family fun in nature. Outdoor Camping Skills Week will be a seven day spring break you won?t want to miss. Outdoor Camping Skills Week will be from Monday\, March 9th thru Sunday\, March 22nd\, 2015. We welcome participants\, of all ages and skill levels\, to share an experience of hands-on activities and environmental responsibilities. On Monday find out what it takes to stay safe outside then practice setting up a tent. Tuesday will be all about building a campfire safely and learning of the best tools and techniques. On Wednesday\, try your hand at outdoor cooking and some simple recipes to use on your campfire. Thursday will include instruction on how to identify wildlife as we take participants on a guided walk through our trails. Finally on Friday have some fun with us while learning how to fish. Classes Monday thru Friday will be held from 2 to 4 pm. On Saturday join us on a family adventure for overnight camping on the EWBC grounds. Whether you?ve attended the previous sessions or not\, come out for campfire cooking\, stories\, night walks\, games\, and more. Enjoy family company under the night sky in a safe and secure environment. The family overnight camping will begin on Saturday at 4 pm and will end on Sunday at 10 am. Our supplies are limited so we encourage participants to bring any overnight camping gear they already own. Monday thru Friday class fees are $2 for EWBC members and $4 for non-members. Supplies for these classes will be provided. The family overnight camping fee is $13 for EWBC members and $15 for non-members. Meals and some supplies will be provided. Please call us ahead of time to register for classes and overnight camping as space will be limited. For more information contact us at (956) 381-9922 or visit our website at www.EdinburgWBC.org
X-ALT-DESC;FMTTYPE=text/html:What will you be doing during your week off for Spring Break? Would you like to learn camping skills in the great outdoors? Then stop by at the Edinburg Scenic Wetlands &amp\; World Birding Center (EWBC) for a great opportunity of family fun in nature. Outdoor Camping Skills Week will be a seven day spring break you won?t want to miss. Outdoor Camping Skills Week will be from Monday\, March 9th thru Sunday\, March 22nd\, 2015. We welcome participants\, of all ages and skill levels\, to share an experience of hands-on activities and environmental responsibilities. On Monday find out what it takes to stay safe outside then practice setting up a tent. Tuesday will be all about building a campfire safely and learning of the best tools and techniques. On Wednesday\, try your hand at outdoor cooking and some simple recipes to use on your campfire. Thursday will include instruction on how to identify wildlife as we take participants on a guided walk through our trails. Finally on Friday have some fun with us while learning how to fish. Classes Monday thru Friday will be held from 2 to 4 pm. On Saturday join us on a family adventure for overnight camping on the EWBC grounds. Whether you?ve attended the previous sessions or not\, come out for campfire cooking\, stories\, night walks\, games\, and more. Enjoy family company under the night sky in a safe and secure environment. The family overnight camping will begin on Saturday at 4 pm and will end on Sunday at 10 am. Our supplies are limited so we encourage participants to bring any overnight camping gear they already own. Monday thru Friday class fees are $2 for EWBC members and $4 for non-members. Supplies for these classes will be provided. The family overnight camping fee is $13 for EWBC members and $15 for non-members. Meals and some supplies will be provided. Please call us ahead of time to register for classes and overnight camping as space will be limited. For more information contact us at (956) 381-9922 or visit our website at www.EdinburgWBC.org
LOCATION:World Birding Center\, 714 South Raul Longoria Road\, Edinburg\, TX 78542\, United States
UID:e.1294.30167
SEQUENCE:3
DTSTAMP:20260425T202610Z
URL:https://business.rgvpartnership.com/events/details/outdoor-camping-skills-week-03-09-2015-30167
END:VEVENT

END:VCALENDAR
