BEGIN:VCALENDAR
VERSION:2.0
PRODID:-//ChamberMaster//Event Calendar 2.0//EN
METHOD:PUBLISH
X-PUBLISHED-TTL:P3D
REFRESH-INTERVAL:P3D
CALSCALE:GREGORIAN
BEGIN:VEVENT
DTSTART:20170204T160000Z
DTEND:20170204T200000Z
X-MICROSOFT-CDO-ALLDAYEVENT:FALSE
SUMMARY:OPEN HOUSE – Bicycling Bahia Grande Unit
DESCRIPTION:Saturday\, February 4\, 10 - 2 Visitors will have the opportunity to see this area as it's being restored. A 5 mile caliche road will be open for visitors to ride their bicycles down and back. They will pass through coastal prairies\, salt water bays and some freshwater wetlands. RESERVATIONS REQUIRED\, SPACE IS LIMITED. Call 956-244-2019 to reserve a start time. FREE.
X-ALT-DESC;FMTTYPE=text/html:Saturday\, February 4\, 10 - 2 Visitors will have the opportunity to see this area as it&rsquo\;s being restored. A 5 mile caliche road will be open for visitors to ride their bicycles down and back. They will pass through coastal prairies\, salt water bays and some freshwater wetlands. RESERVATIONS REQUIRED\, SPACE IS LIMITED. Call 956-244-2019 to reserve a start time. FREE.
LOCATION:Laguna Atascosa National Wildlife Refuge 22688 Buena Vista Rd Los Fresnos\, TX 78566
UID:e.1294.30378
SEQUENCE:3
DTSTAMP:20260424T073243Z
URL:https://business.rgvpartnership.com/events/details/open-house-bicycling-bahia-grande-unit-02-04-2017-30378
END:VEVENT

END:VCALENDAR
