BEGIN:VCALENDAR
VERSION:2.0
PRODID:-//ChamberMaster//Event Calendar 2.0//EN
METHOD:PUBLISH
X-PUBLISHED-TTL:P3D
REFRESH-INTERVAL:P3D
CALSCALE:GREGORIAN
BEGIN:VEVENT
DTSTART:20160213T160000Z
DTEND:20160213T200000Z
X-MICROSOFT-CDO-ALLDAYEVENT:FALSE
SUMMARY:OPEN HOUSE ? Bahia Grande Unit
DESCRIPTION:Visitors will have the opportunity to see this area as it?s being restored. A one-way 7 mile caliche road will be open for visitors to drive through the unit where they will pass through coastal prairies\, salt water bays and some freshwater wetlands. Several stations will be available for viewing birds\, learning about the history and restoration work and getting a fishing lesson. Binoculars and cameras are recommended. Larger\, high clearance vehicles are recommended. Low vehicles may not be allowed to enter. Entrance for the Open House will be on State Highway 48\, 4 miles south of State Highway 100 between Port Isabel and Brownsville. Call 956-244-2019 for more information.
X-ALT-DESC;FMTTYPE=text/html:Visitors will have the opportunity to see this area as it?s being restored. A one-way 7 mile caliche road will be open for visitors to drive through the unit where they will pass through coastal prairies\, salt water bays and some freshwater wetlands. Several stations will be available for viewing birds\, learning about the history and restoration work and getting a fishing lesson. Binoculars and cameras are recommended. Larger\, high clearance vehicles are recommended. Low vehicles may not be allowed to enter. Entrance for the Open House will be on State Highway 48\, 4 miles south of State Highway 100 between Port Isabel and Brownsville. Call 956-244-2019 for more information.
LOCATION:
UID:e.1294.30269
SEQUENCE:3
DTSTAMP:20260425T002726Z
URL:https://business.rgvpartnership.com/events/details/open-house-bahia-grande-unit-02-13-2016-30269
END:VEVENT

END:VCALENDAR
