BEGIN:VCALENDAR
VERSION:2.0
PRODID:-//ChamberMaster//Event Calendar 2.0//EN
METHOD:PUBLISH
X-PUBLISHED-TTL:P3D
REFRESH-INTERVAL:P3D
CALSCALE:GREGORIAN
BEGIN:VEVENT
DTSTART:20150306T170000Z
DTEND:20150306T190000Z
X-MICROSOFT-CDO-ALLDAYEVENT:FALSE
SUMMARY:OCELOT CONSERVATION DAY SEMINAR
DESCRIPTION:Ocelot Conservation Day Seminar March 6th\, 2015 11am-1pm Staff\, students\, and the public are invited to learn about this endangered wild cat at this seminar. Featuring several speakers\, information booths\, and a live ocelot from the Cincinnati Zoo! University of Texas Pan American University Center Ballroom 1201 W. University Drive Edinburg\, TX 78539 Call 956-748-3607 ext 111 or visit www.fws.gov/refuge/laguna_atascosa for more information.
X-ALT-DESC;FMTTYPE=text/html:Ocelot Conservation Day Seminar March 6th\, 2015 11am-1pm Staff\, students\, and the public are invited to learn about this endangered wild cat at this seminar. Featuring several speakers\, information booths\, and a live ocelot from the Cincinnati Zoo! University of Texas Pan American University Center Ballroom 1201 W. University Drive Edinburg\, TX 78539 Call 956-748-3607 ext 111 or visit www.fws.gov/refuge/laguna_atascosa for more information.
LOCATION:University of Texas Pan American University Center Ballroom 1201 W. University Drive Edinburg\, TX 78539
UID:e.1294.30152
SEQUENCE:3
DTSTAMP:20260425T185423Z
URL:https://business.rgvpartnership.com/events/details/ocelot-conservation-day-seminar-03-06-2015-30152
END:VEVENT

END:VCALENDAR
