BEGIN:VCALENDAR
VERSION:2.0
PRODID:-//ChamberMaster//Event Calendar 2.0//EN
METHOD:PUBLISH
X-PUBLISHED-TTL:P3D
REFRESH-INTERVAL:P3D
CALSCALE:GREGORIAN
BEGIN:VEVENT
DTSTART:20150307T160000Z
DTEND:20150307T220000Z
X-MICROSOFT-CDO-ALLDAYEVENT:FALSE
SUMMARY:OCELOT CONSERVATION DAY!
DESCRIPTION:Ocelot Conservation Day March 7th\, 2015 10am-4pm Discover the endangered ocelot\, found right here in the Rio Grande Valley! Fun arts and crafts\, information booths\, and the opportunity to see a LIVE OCELOT! $2 off regular adult admission Gladys Porter Zoo 500 E Ringgold Street Brownsville\, TX 78520 Call 956-748-3607 ext 111 or visit www.fws.gov/refuge/laguna_atascosa for more information.
X-ALT-DESC;FMTTYPE=text/html:Ocelot Conservation Day March 7th\, 2015 10am-4pm Discover the endangered ocelot\, found right here in the Rio Grande Valley! Fun arts and crafts\, information booths\, and the opportunity to see a LIVE OCELOT! $2 off regular adult admission Gladys Porter Zoo 500 E Ringgold Street Brownsville\, TX 78520 Call 956-748-3607 ext 111 or visit www.fws.gov/refuge/laguna_atascosa for more information.
LOCATION:Gladys Porter Zoo 500 E Ringgold Street Brownsville\, TX 78520
UID:e.1294.30153
SEQUENCE:3
DTSTAMP:20260425T135222Z
URL:https://business.rgvpartnership.com/events/details/ocelot-conservation-day-03-07-2015-30153
END:VEVENT

END:VCALENDAR
