BEGIN:VCALENDAR
VERSION:2.0
PRODID:-//ChamberMaster//Event Calendar 2.0//EN
METHOD:PUBLISH
X-PUBLISHED-TTL:P3D
REFRESH-INTERVAL:P3D
CALSCALE:GREGORIAN
BEGIN:VEVENT
DTSTART:20170914T230000Z
DTEND:20170915T000000Z
X-MICROSOFT-CDO-ALLDAYEVENT:FALSE
SUMMARY:Nature Speaker Series: History of the Rio Grande Valley through Historical Structures
DESCRIPTION:History of the Rio Grande Valley through Historical Structures Through photographs of historic structures of the Rio Grande Valley\, Pino Shah will take you on a historical visual journey through his book\, Architecture of the Lower Rio Grande Valley: An Introduction. This book celebrates the architecture of the Texas-Mexico border region\, its craftsmen\, its cultures and its climate. The architectural images by Pino Shah provide an expedition through 160 years of history and heritage\, revealing the border's built environment as filtered through diverse cultures. Shah also created the book 'Quinta Mazatlan: A Visual Journey' in collaboration with writer Eileen Mattei. Using photographs and discussion\, the two will direct your attention to unique elements of the Mansion with a Mission and its history. Pino Shah\, a world heritage photographer\, and freelancer Eileen Mattei\, who writes about nature and history for Texas magazines will take you on an incredible visual journey across the Rio Grande Valley.
X-ALT-DESC;FMTTYPE=text/html:History of the Rio Grande Valley through Historical Structures Through photographs of historic structures of the Rio Grande Valley\, Pino Shah will take you on a historical visual journey through his book\, Architecture of the Lower Rio Grande Valley: An Introduction. This book celebrates the architecture of the Texas-Mexico border region\, its craftsmen\, its cultures and its climate. The architectural images by Pino Shah provide an expedition through 160 years of history and heritage\, revealing the border&rsquo\;s built environment as filtered through diverse cultures. Shah also created the book &lsquo\;Quinta Mazatlan: A Visual Journey&rsquo\; in collaboration with writer Eileen Mattei. Using photographs and discussion\, the two will direct your attention to unique elements of the Mansion with a Mission and its history. Pino Shah\, a world heritage photographer\, and freelancer Eileen Mattei\, who writes about nature and history for Texas magazines will take you on an incredible visual journey across the Rio Grande Valley.
LOCATION:Quinta Mazatlan is located 600 Sunset in McAllen\, one block south of La Plaza Mall on 10th Street.
UID:e.1294.30394
SEQUENCE:3
DTSTAMP:20260423T211956Z
URL:https://business.rgvpartnership.com/events/details/nature-speaker-series-history-of-the-rio-grande-valley-through-historical-structures-30394
END:VEVENT

END:VCALENDAR
