BEGIN:VCALENDAR
VERSION:2.0
PRODID:-//ChamberMaster//Event Calendar 2.0//EN
METHOD:PUBLISH
X-PUBLISHED-TTL:P3D
REFRESH-INTERVAL:P3D
CALSCALE:GREGORIAN
BEGIN:VEVENT
DTSTART:20150321T140000Z
DTEND:20150321T200000Z
X-MICROSOFT-CDO-ALLDAYEVENT:FALSE
SUMMARY:Native Plant Sale & Monarch Day
DESCRIPTION:Join us for our Native Plant Sale where you'll be able to learn about and purchase plants that will give your yard a unique aesthetic all while providing habitat for birds and butterflies that you'll be able to enjoy from your own home. Join us for presentations given by local experts and learn all about our natives and how to beautify your yard\, and learn about how you can help Monarch populations by planting the right plants.There will be fun activities for the little ones\, too. 9:00 -10:00 am - Planting with Natives presentation 10:00 am - 2:00pm - Plant Sale & Butterfly Crafts 2:00 pm - 3:00 pm - Milkweeds and Monarchs presentation FREE ENTRY All DAY! For more information\, please call (956) 381-9922 or visit www.EdinburgWBC.org
X-ALT-DESC;FMTTYPE=text/html:Join us for our Native Plant Sale where you&#39\;ll be able to learn about and purchase plants that will give your yard a unique aesthetic all while providing habitat for birds and butterflies that you&#39\;ll be able to enjoy from your own home. Join us for presentations given by local experts and learn all about our natives and how to beautify your yard\, and learn about how you can help Monarch populations by planting the right plants.There will be fun activities for the little ones\, too. 9:00 -10:00 am - Planting with Natives presentation 10:00 am - 2:00pm - Plant Sale &amp\; Butterfly Crafts 2:00 pm - 3:00 pm - Milkweeds and Monarchs presentation FREE ENTRY All DAY! For more information\, please call (956) 381-9922 or visit www.EdinburgWBC.org
LOCATION:Edinburg Scenic Wetlands & World Birding Center. 714 Raul Longoria RD\, Edinburg TX 78542
UID:e.1294.30169
SEQUENCE:3
DTSTAMP:20260425T185711Z
URL:https://business.rgvpartnership.com/events/details/native-plant-sale-monarch-day-03-21-2015-30169
END:VEVENT

END:VCALENDAR
