BEGIN:VCALENDAR
VERSION:2.0
PRODID:-//ChamberMaster//Event Calendar 2.0//EN
METHOD:PUBLISH
X-PUBLISHED-TTL:P3D
REFRESH-INTERVAL:P3D
CALSCALE:GREGORIAN
BEGIN:VEVENT
DTSTART:20141206T160000Z
DTEND:20141206T170000Z
X-MICROSOFT-CDO-ALLDAYEVENT:FALSE
SUMMARY:Native Bees of South Texas - What's all the buzz about?
DESCRIPTION:Explore the world of Native Bees of South Texas. Dr. Michael McClure opens up the mysteries of the bee world to us. Join Dr. McClure for conversation\, coffee and pastries at the Valley Nature center. Then enjoy the remained of your Saturday on the trails at the center and visit our native plant nursery. $3.00 per person includes admission to the trails.
X-ALT-DESC;FMTTYPE=text/html:Explore the world of Native Bees of South Texas. Dr. Michael McClure opens up the mysteries of the bee world to us. Join Dr. McClure for conversation\, coffee and pastries at the Valley Nature center. Then enjoy the remained of your Saturday on the trails at the center and visit our native plant nursery. $3.00 per person includes admission to the trails.
LOCATION:Valley Nature Center 301 South Border Ave Weslaco\, Tx 78596
UID:e.1294.30117
SEQUENCE:3
DTSTAMP:20260425T232538Z
URL:https://business.rgvpartnership.com/events/details/native-bees-of-south-texas-what-s-all-the-buzz-about-12-06-2014-30117
END:VEVENT

END:VCALENDAR
