BEGIN:VCALENDAR
VERSION:2.0
PRODID:-//ChamberMaster//Event Calendar 2.0//EN
METHOD:PUBLISH
X-PUBLISHED-TTL:P3D
REFRESH-INTERVAL:P3D
CALSCALE:GREGORIAN
BEGIN:VEVENT
DTSTART:20140927T133000Z
DTEND:20140927T170000Z
X-MICROSOFT-CDO-ALLDAYEVENT:FALSE
SUMMARY:National Public Lands Day Shoreline Clean-Up
DESCRIPTION:Saturday- September 27\, 2014 8:30 am ? 12:00 pm Come join us at Laguna Atascosa to help clean up the Laguna Madre Shoreline! Wear sturdy footwear (no flip-flops!) and bring a water bottle\, gloves\, and sun protection! Trash bags and water refills will be provided. Registration is at 8:30 am at the Visitor Center. Refuge entrance fee will be waived for participants. Please call ahead of time to make large group reservations. 956-748-3607\, ext .111 www.fws.gov/refuge/laguna_atascosa
X-ALT-DESC;FMTTYPE=text/html:Saturday- September 27\, 2014 8:30 am ? 12:00 pm Come join us at Laguna Atascosa to help clean up the Laguna Madre Shoreline! Wear sturdy footwear (no flip-flops!) and bring a water bottle\, gloves\, and sun protection! Trash bags and water refills will be provided. Registration is at 8:30 am at the Visitor Center. Refuge entrance fee will be waived for participants. Please call ahead of time to make large group reservations. 956-748-3607\, ext .111 www.fws.gov/refuge/laguna_atascosa
LOCATION:Laguna Atascosa National Wildlife Refuge 22688 Buena Vista Blvd Los Fresnos\, TX 78566
UID:e.1294.30064
SEQUENCE:3
DTSTAMP:20260426T041045Z
URL:https://business.rgvpartnership.com/events/details/national-public-lands-day-shoreline-clean-up-09-27-2014-30064
END:VEVENT

END:VCALENDAR
