BEGIN:VCALENDAR
VERSION:2.0
PRODID:-//ChamberMaster//Event Calendar 2.0//EN
METHOD:PUBLISH
X-PUBLISHED-TTL:P3D
REFRESH-INTERVAL:P3D
CALSCALE:GREGORIAN
BEGIN:VEVENT
DTSTART:20160917T160000Z
DTEND:20160917T170000Z
X-MICROSOFT-CDO-ALLDAYEVENT:FALSE
SUMMARY:My Mission Oral History Project
DESCRIPTION:Learn about the Chicano Movement with Dr. Trinidad Gonzales at the Mission Historical Museum at 11:00 am. Admission is free!
X-ALT-DESC;FMTTYPE=text/html:Learn about the Chicano Movement with Dr. Trinidad Gonzales at the Mission Historical Museum at 11:00 am. Admission is free!
LOCATION:Mission Historical Museum\, 900 Doherty\, Mission\, Texas
UID:e.1294.30361
SEQUENCE:3
DTSTAMP:20260424T143208Z
URL:https://business.rgvpartnership.com/events/details/my-mission-oral-history-project-30361
END:VEVENT

END:VCALENDAR
