BEGIN:VCALENDAR
VERSION:2.0
PRODID:-//ChamberMaster//Event Calendar 2.0//EN
METHOD:PUBLISH
X-PUBLISHED-TTL:P3D
REFRESH-INTERVAL:P3D
CALSCALE:GREGORIAN
BEGIN:VEVENT
DTSTART:20160319T230000Z
DTEND:20160320T040000Z
X-MICROSOFT-CDO-ALLDAYEVENT:FALSE
SUMMARY:Music\, Merriment & Magic: Dining for a Cause
DESCRIPTION:Music\, Merriment & Magic: Dining for a Cause Featuring the Magic of Oscar Munoz Dinner\, libations\, silent auction and a magical evening benefiting Valley AIDS Council.
X-ALT-DESC;FMTTYPE=text/html:Music\, Merriment &amp\; Magic: Dining for a Cause Featuring the Magic of Oscar Munoz Dinner\, libations\, silent auction and a magical evening benefiting Valley AIDS Council.
LOCATION:Harlingen Municipal Auditorium 1204 Fair Park Blvd. Harlingen\, TX 78550
UID:e.1294.30273
SEQUENCE:3
DTSTAMP:20260424T230016Z
URL:https://business.rgvpartnership.com/events/details/music-merriment-magic-dining-for-a-cause-03-19-2016-30273
END:VEVENT

END:VCALENDAR
