BEGIN:VCALENDAR
VERSION:2.0
PRODID:-//ChamberMaster//Event Calendar 2.0//EN
METHOD:PUBLISH
X-PUBLISHED-TTL:P3D
REFRESH-INTERVAL:P3D
CALSCALE:GREGORIAN
BEGIN:VEVENT
DTSTART:20160722T010000Z
DTEND:20160722T030000Z
X-MICROSOFT-CDO-ALLDAYEVENT:FALSE
SUMMARY:Movies on the Lawn
DESCRIPTION:Movies on the Lawn: Join the Mission Historical Museum every Thursday in July at 8 pm for Movies on the Lawn. Bring chairs and blankets for your viewing pleasure. This event is free to the public.
X-ALT-DESC;FMTTYPE=text/html:Movies on the Lawn: Join the Mission Historical Museum every Thursday in July at 8 pm for Movies on the Lawn. Bring chairs and blankets for your viewing pleasure. This event is free to the public.
LOCATION:Mission\, Texas 900 Doherty Ave.\, Mission\, Texas
UID:e.1294.30299
SEQUENCE:3
DTSTAMP:20260424T172142Z
URL:https://business.rgvpartnership.com/events/details/movies-on-the-lawn-07-21-2016-30299
END:VEVENT

END:VCALENDAR
