BEGIN:VCALENDAR
VERSION:2.0
PRODID:-//ChamberMaster//Event Calendar 2.0//EN
METHOD:PUBLISH
X-PUBLISHED-TTL:P3D
REFRESH-INTERVAL:P3D
CALSCALE:GREGORIAN
BEGIN:VEVENT
DTSTART:20160723T180000Z
DTEND:20160723T210000Z
X-MICROSOFT-CDO-ALLDAYEVENT:FALSE
SUMMARY:Mommy Prep: Postpartum & Newborn Care
DESCRIPTION:Postpartum & Newborn Care is important for all Parents. Although this is the finale of your pregnancy journey\, a new one begins with your new family! During this class we will cover several components to ease you into Parenthood! This Series was formed to support you through this very emotional transition and reinforce the bond that you share with your family. This Course Covers 6 Components with visuals and hands on demos. ?Mother Care ?Feeding Your Baby ?How to adjust to Life with New Baby or Multiples ?Newborn Care ?How to get help for the family. ?Getting back to a routine. Location of each class will be at 4811 S Jackson Rd\, Edinburg\, TX (snacks\,refreshments) Seating is Limited so don't delay!! Reserve Your Seat Today!! Cost is $50 per person or $75 couple
X-ALT-DESC;FMTTYPE=text/html:Postpartum &amp\; Newborn Care is important for all Parents. Although this is the finale of your pregnancy journey\, a new one begins with your new family! During this class we will cover several components to ease you into Parenthood! This Series was formed to support you through this very emotional transition and reinforce the bond that you share with your family. This Course Covers 6 Components with visuals and hands on demos. ?Mother Care ?Feeding Your Baby ?How to adjust to Life with New Baby or Multiples ?Newborn Care ?How to get help for the family. ?Getting back to a routine. Location of each class will be at 4811 S Jackson Rd\, Edinburg\, TX (snacks\,refreshments) Seating is Limited so don&rsquo\;t delay!! Reserve Your Seat Today!! Cost is $50 per person or $75 couple
LOCATION:Blissful Baby 4811 S Jackson Rd Edinburg\, TX 78539
UID:e.1294.30295
SEQUENCE:3
DTSTAMP:20260424T172114Z
URL:https://business.rgvpartnership.com/events/details/mommy-prep-postpartum-newborn-care-07-23-2016-30295
END:VEVENT

END:VCALENDAR
