BEGIN:VCALENDAR
VERSION:2.0
PRODID:-//ChamberMaster//Event Calendar 2.0//EN
METHOD:PUBLISH
X-PUBLISHED-TTL:P3D
REFRESH-INTERVAL:P3D
CALSCALE:GREGORIAN
BEGIN:VEVENT
DTSTART:20160708T230000Z
DTEND:20160709T003000Z
X-MICROSOFT-CDO-ALLDAYEVENT:FALSE
SUMMARY:Mommy Prep: Breastfeeding Series Part 2
DESCRIPTION:Breast Feeding Series is now forming!! Class will be given by a Certified Lactation Consultant. Cost is $40 couple\, $30 pp (Pay once and return as many times as needed during your BF journey) Class will form with 2 or more registrants (snacks\, refreshments) Call (866) 684-4811 to reserve your seat. Class will be held at 4811 S Jackson Rd\, Edinburg\, TX. $10 credit toward purchase at Blissful Baby  for first time attendees! Cut-off for registration will be Thursday at 5 pm.
X-ALT-DESC;FMTTYPE=text/html:Breast Feeding Series is now forming!! Class will be given by a Certified Lactation Consultant. Cost is $40 couple\, $30 pp (Pay once and return as many times as needed during your BF journey) Class will form with 2 or more registrants (snacks\, refreshments) Call (866) 684-4811 to reserve your seat. Class will be held at 4811 S Jackson Rd\, Edinburg\, TX. $10 credit toward purchase at Blissful Baby&reg\; for first time attendees! Cut-off for registration will be Thursday at 5 pm.
LOCATION:Blissful Baby 4811 S Jackson Rd Edinburg\, TX 78539
UID:e.1294.30294
SEQUENCE:3
DTSTAMP:20260424T172010Z
URL:https://business.rgvpartnership.com/events/details/mommy-prep-breastfeeding-series-part-2-07-08-2016-30294
END:VEVENT

END:VCALENDAR
