BEGIN:VCALENDAR
VERSION:2.0
PRODID:-//ChamberMaster//Event Calendar 2.0//EN
METHOD:PUBLISH
X-PUBLISHED-TTL:P3D
REFRESH-INTERVAL:P3D
CALSCALE:GREGORIAN
BEGIN:VEVENT
DTSTART:20160812T230000Z
DTEND:20160813T003000Z
X-MICROSOFT-CDO-ALLDAYEVENT:FALSE
SUMMARY:Mommy Prep: Breastfeeding Series Part 1
DESCRIPTION:Our Series is given by Certified Lactation Consultants and structured to provide one on one support. Our class consists of no more than 6 attendees to allow one on one time. Senior LC: Jessica Sargent-FLores\, IBCLC\, LLL Lactation Management: Nancy Cavazos\, CCBE
X-ALT-DESC;FMTTYPE=text/html:Our Series is given by Certified Lactation Consultants and structured to provide one on one support. Our class consists of no more than 6 attendees to allow one on one time. Senior LC: Jessica Sargent-FLores\, IBCLC\, LLL Lactation Management: Nancy Cavazos\, CCBE
LOCATION:Blissful Baby 4811 S Jackson Rd Edinburg\, TX 78539
UID:e.1294.30301
SEQUENCE:3
DTSTAMP:20260424T160258Z
URL:https://business.rgvpartnership.com/events/details/mommy-prep-breastfeeding-series-part-1-08-12-2016-30301
END:VEVENT

END:VCALENDAR
