BEGIN:VCALENDAR
VERSION:2.0
PRODID:-//ChamberMaster//Event Calendar 2.0//EN
METHOD:PUBLISH
X-PUBLISHED-TTL:P3D
REFRESH-INTERVAL:P3D
CALSCALE:GREGORIAN
BEGIN:VEVENT
DTSTART:20141213T160000Z
DTEND:20141213T170000Z
X-MICROSOFT-CDO-ALLDAYEVENT:FALSE
SUMMARY:"Meet your Neighbors" project by Seth Patterson
DESCRIPTION:Meet Your Neighbors? is a worldwide photographic initiative The project is dedicated to reconnecting people with the wildlife on their own doorsteps This is conservation photography at the grass roots level\, asking people to care about their own natural heritage\, where they live and showing them how extraordinary it is in a novel way.
X-ALT-DESC;FMTTYPE=text/html:Meet Your Neighbors? is a worldwide photographic initiative The project is dedicated to reconnecting people with the wildlife on their own doorsteps This is conservation photography at the grass roots level\, asking people to care about their own natural heritage\, where they live and showing them how extraordinary it is in a novel way.
LOCATION:Valley Nature Center 301 South Border Ave Weslaco\,Tx 78596
UID:e.1294.30120
SEQUENCE:3
DTSTAMP:20260425T232358Z
URL:https://business.rgvpartnership.com/events/details/meet-your-neighbors-project-by-seth-patterson-12-13-2014-30120
END:VEVENT

END:VCALENDAR
