BEGIN:VCALENDAR
VERSION:2.0
PRODID:-//ChamberMaster//Event Calendar 2.0//EN
METHOD:PUBLISH
X-PUBLISHED-TTL:P3D
REFRESH-INTERVAL:P3D
CALSCALE:GREGORIAN
BEGIN:VEVENT
DTSTART;VALUE=DATE:20150626
DTEND;VALUE=DATE:20150628
TRANSP:TRANSPARENT
X-MICROSOFT-CDO-ALLDAYEVENT:TRUE
SUMMARY:McAllen Blues Night
DESCRIPTION:McAllen Blues Night -- Come join us for an evening of fabulous entertainment\, food and beverages!
X-ALT-DESC;FMTTYPE=text/html:McAllen Blues Night -- Come join us for an evening of fabulous entertainment\, food and beverages!
LOCATION:McAllen Creative Incubator 601 North Main Street McAllen\, TX 78501
UID:e.1294.30238
SEQUENCE:3
DTSTAMP:20260425T161119Z
URL:https://business.rgvpartnership.com/events/details/mcallen-blues-night-06-26-2015-30238
END:VEVENT

END:VCALENDAR
