BEGIN:VCALENDAR
VERSION:2.0
PRODID:-//ChamberMaster//Event Calendar 2.0//EN
METHOD:PUBLISH
X-PUBLISHED-TTL:P3D
REFRESH-INTERVAL:P3D
CALSCALE:GREGORIAN
BEGIN:VEVENT
DTSTART:20150509T210000Z
DTEND:20150510T000000Z
X-MICROSOFT-CDO-ALLDAYEVENT:FALSE
SUMMARY:Mariachi & Folklorico Festival
DESCRIPTION:The Edinburg Folklorico is pleased to present our First Annual Mariachi & Folklorico Festival Concert featuring the music\, dance\, and culture of South Texas and Mexico. One of the most popular Mariachi singer in the industry\, Sebastian De La Cruz (El Charro de Oro)\, will be featured along with the 2 time Grammy Award winners\, Campanas de America and the colorful corps of dancers from one of the leading Folkloric groups\, the Edinburg Folklorico Dance Team. The proceeds will be benefiting the Boys & Girls Club of Edinburg. Get your tickets now for May 9th!!! Feel free to share message with you friends and family. Purchase Info: www.topboxtickets.com 956-631-1411 Hermes Music Locations
X-ALT-DESC;FMTTYPE=text/html:The Edinburg Folklorico is pleased to present our First Annual Mariachi &amp\; Folklorico Festival Concert featuring the music\, dance\, and culture of South Texas and Mexico. One of the most popular Mariachi singer in the industry\, Sebastian De La Cruz (El Charro de Oro)\, will be featured along with the 2 time Grammy Award winners\, Campanas de America and the colorful corps of dancers from one of the leading Folkloric groups\, the Edinburg Folklorico Dance Team. The proceeds will be benefiting the Boys &amp\; Girls Club of Edinburg. Get your tickets now for May 9th!!! Feel free to share message with you friends and family. Purchase Info: www.topboxtickets.com 956-631-1411 Hermes Music Locations
LOCATION:Edinburg Historic Auditorium
UID:e.1294.30209
SEQUENCE:3
DTSTAMP:20260425T161409Z
URL:https://business.rgvpartnership.com/events/details/mariachi-folklorico-festival-05-09-2015-30209
END:VEVENT

END:VCALENDAR
