BEGIN:VCALENDAR
VERSION:2.0
PRODID:-//ChamberMaster//Event Calendar 2.0//EN
METHOD:PUBLISH
X-PUBLISHED-TTL:P3D
REFRESH-INTERVAL:P3D
CALSCALE:GREGORIAN
BEGIN:VEVENT
DTSTART:20150725T180000Z
DTEND:20150725T220000Z
X-MICROSOFT-CDO-ALLDAYEVENT:FALSE
SUMMARY:Making Music in the Park
DESCRIPTION:Do you enjoy music and the sounds the different instruments make? Have you tried making your own music? We?d like to invite nature and music enthusiasts alike for a family friendly afternoon of Making Music in the Park at the Edinburg Scenic Wetlands & World Birding Center (EWBC). Join us for an inspiring and creative afternoon on Saturday\, June 25\, 2015 from 1 ? 5 pm. Participants will have the opportunity to try their hand at making homemade instruments out of recycled and natural materials. Learn how to make maracas\, put together your very own rain stick\, or build a wind chime out of seed pods. There will also be a brief presentation on the history of music at 2 pm. And if you enjoy nature?s music then let us help you identify what you?re hearing on a nature?s sounds walk at 3 pm. The fee for Making Music in the Park is free. We will also provide free face painting from 2-4 pm. For more information call (956)381-9922 or visit www.edinburgwbc.org.
X-ALT-DESC;FMTTYPE=text/html:Do you enjoy music and the sounds the different instruments make? Have you tried making your own music? We?d like to invite nature and music enthusiasts alike for a family friendly afternoon of Making Music in the Park at the Edinburg Scenic Wetlands &amp\; World Birding Center (EWBC). Join us for an inspiring and creative afternoon on Saturday\, June 25\, 2015 from 1 ? 5 pm. Participants will have the opportunity to try their hand at making homemade instruments out of recycled and natural materials. Learn how to make maracas\, put together your very own rain stick\, or build a wind chime out of seed pods. There will also be a brief presentation on the history of music at 2 pm. And if you enjoy nature?s music then let us help you identify what you?re hearing on a nature?s sounds walk at 3 pm. The fee for Making Music in the Park is free. We will also provide free face painting from 2-4 pm. For more information call (956)381-9922 or visit www.edinburgwbc.org.
LOCATION:World Birding Center\, 714 South Raul Longoria Road\, Edinburg\, TX 78542\, United States
UID:e.1294.30196
SEQUENCE:3
DTSTAMP:20260425T103132Z
URL:https://business.rgvpartnership.com/events/details/making-music-in-the-park-07-25-2015-30196
END:VEVENT

END:VCALENDAR
