BEGIN:VCALENDAR
VERSION:2.0
PRODID:-//ChamberMaster//Event Calendar 2.0//EN
METHOD:PUBLISH
X-PUBLISHED-TTL:P3D
REFRESH-INTERVAL:P3D
CALSCALE:GREGORIAN
BEGIN:VEVENT
DTSTART:20150813T223000Z
DTEND:20150814T000000Z
X-MICROSOFT-CDO-ALLDAYEVENT:FALSE
SUMMARY:Making Butterfly Bait
DESCRIPTION:Want to attract butterflies to your yard but you don't have enough garden flowers or space for a garden? Making your own butterfly bait is a great solution! In this program\, participants will learn how to make bait food that will attract an array of butterflies\, simply by using fruit! Fee: $2 members\, $3 non-members Time: 5:30-7:00 p.m. For information call (956) 381-9922 or visit online at www.edinburgwbc.org.
X-ALT-DESC;FMTTYPE=text/html:Want to attract butterflies to your yard but you don&#39\;t have enough garden flowers or space for a garden? Making your own butterfly bait is a great solution! In this program\, participants will learn how to make bait food that will attract an array of butterflies\, simply by using fruit! Fee: $2 members\, $3 non-members Time: 5:30-7:00 p.m. For information call (956) 381-9922 or visit online at www.edinburgwbc.org.
LOCATION:Edinburg Scenic Wetlands & World Birding Center. 714 Raul Longoria RD\, Edinburg TX 78542
UID:e.1294.30202
SEQUENCE:3
DTSTAMP:20260424T102500Z
URL:https://business.rgvpartnership.com/events/details/making-butterfly-bait-08-13-2015-30202
END:VEVENT

END:VCALENDAR
