BEGIN:VCALENDAR
VERSION:2.0
PRODID:-//ChamberMaster//Event Calendar 2.0//EN
METHOD:PUBLISH
X-PUBLISHED-TTL:P3D
REFRESH-INTERVAL:P3D
CALSCALE:GREGORIAN
BEGIN:VEVENT
DTSTART:20150604T223000Z
DTEND:20150605T000000Z
X-MICROSOFT-CDO-ALLDAYEVENT:FALSE
SUMMARY:Making a Plant Press!
DESCRIPTION:Do you like the beauty of our native plants so much you want to keep pieces as memories and for study? Well\, join us at the EWBC where we will teach you how to preserve plants by creating plant presses! Plant presses allow you to store the plants you collect and preserve them for future admiring and reference and they're easy and fun to make! In this program\, you will study the features of plants and learn how to keep them stored in your own plant press. Fee: Regular Admission Time: 5:30-7:00 p.m. For information call (956) 381-9922 or visit online at www.edinburgwbc.org.
X-ALT-DESC;FMTTYPE=text/html:Do you like the beauty of our native plants so much you want to keep pieces as memories and for study? Well\, join us at the EWBC where we will teach you how to preserve plants by creating plant presses! Plant presses allow you to store the plants you collect and preserve them for future admiring and reference and they&#39\;re easy and fun to make! In this program\, you will study the features of plants and learn how to keep them stored in your own plant press. Fee: Regular Admission Time: 5:30-7:00 p.m. For information call (956) 381-9922 or visit online at www.edinburgwbc.org.
LOCATION:World Birding Center\, South Raul Longoria Road\, Edinburg\, TX\, United States
UID:e.1294.30187
SEQUENCE:3
DTSTAMP:20260424T100727Z
URL:https://business.rgvpartnership.com/events/details/making-a-plant-press-06-04-2015-30187
END:VEVENT

END:VCALENDAR
