BEGIN:VCALENDAR
VERSION:2.0
PRODID:-//ChamberMaster//Event Calendar 2.0//EN
METHOD:PUBLISH
X-PUBLISHED-TTL:P3D
REFRESH-INTERVAL:P3D
CALSCALE:GREGORIAN
BEGIN:VEVENT
DTSTART:20160817T133000Z
DTEND:20160817T210000Z
X-MICROSOFT-CDO-ALLDAYEVENT:FALSE
SUMMARY:Lower Rio Grande Valley - Ready Business Workshop
DESCRIPTION:The Lower Rio Grande Valley Development Council (LRGVDC)\, in conjunction with FEMA Region VI\, is hosting a Ready Business Workshop for businesses and organizations to learn about flood preparedness and mitigation on August 17\, 2016 at the LRGVDC Office in Weslaco\, TX.
X-ALT-DESC;FMTTYPE=text/html:The Lower Rio Grande Valley Development Council (LRGVDC)\, in conjunction with FEMA Region VI\, is hosting a Ready Business Workshop for businesses and organizations to learn about flood preparedness and mitigation on August 17\, 2016 at the LRGVDC Office in Weslaco\, TX.
LOCATION:Lower Rio Grande Valley Development Council 301 W. Railroad St. Weslaco\, TX 78596
UID:e.1294.30303
SEQUENCE:3
DTSTAMP:20260424T155947Z
URL:https://business.rgvpartnership.com/events/details/lower-rio-grande-valley-ready-business-workshop-08-17-2016-30303
END:VEVENT

END:VCALENDAR
