BEGIN:VCALENDAR
VERSION:2.0
PRODID:-//ChamberMaster//Event Calendar 2.0//EN
METHOD:PUBLISH
X-PUBLISHED-TTL:P3D
REFRESH-INTERVAL:P3D
CALSCALE:GREGORIAN
BEGIN:VEVENT
DTSTART:20191204T000000Z
DTEND:20191204T023000Z
X-MICROSOFT-CDO-ALLDAYEVENT:FALSE
SUMMARY:Lone Star National Bank - Christmas Posada
DESCRIPTION:Lone Star National Bank cordially invites you to a Christmas Posada!
X-ALT-DESC;FMTTYPE=text/html:<span style="color:#000080\;"><font face="verdana"><font size="4">Lone Star National Bank cordially invites you to a Christmas Posada!</font></font></span>
LOCATION:620 W. Expressway 83\, Weslaco\, Texas 78596
UID:e.1294.30448
SEQUENCE:3
DTSTAMP:20260420T100221Z
URL:https://business.rgvpartnership.com/events/details/lone-star-national-bank-christmas-posada-30448
END:VEVENT

END:VCALENDAR
