BEGIN:VCALENDAR
VERSION:2.0
PRODID:-//ChamberMaster//Event Calendar 2.0//EN
METHOD:PUBLISH
X-PUBLISHED-TTL:P3D
REFRESH-INTERVAL:P3D
CALSCALE:GREGORIAN
BEGIN:VEVENT
DTSTART;VALUE=DATE:20141023
DTEND;VALUE=DATE:20141024
TRANSP:TRANSPARENT
X-MICROSOFT-CDO-ALLDAYEVENT:TRUE
SUMMARY:Locked By Phillip Zwerling and Lorenzo Pace
DESCRIPTION:Locked stages the based- on-fact story of a contemporary African American family torn apart by shame when they discover their personal ties to Africa and American slavery.
X-ALT-DESC;FMTTYPE=text/html:Locked stages the based- on-fact story of a contemporary African American family torn apart by shame when they discover their personal ties to Africa and American slavery.
LOCATION:Albert L. Jeffers Theatre 1201 W. University Drive Edinburg\, TX 78539
UID:e.1294.30073
SEQUENCE:3
DTSTAMP:20260426T023823Z
URL:https://business.rgvpartnership.com/events/details/locked-by-phillip-zwerling-and-lorenzo-pace-10-23-2014-30073
END:VEVENT

END:VCALENDAR
