BEGIN:VCALENDAR
VERSION:2.0
PRODID:-//ChamberMaster//Event Calendar 2.0//EN
METHOD:PUBLISH
X-PUBLISHED-TTL:P3D
REFRESH-INTERVAL:P3D
CALSCALE:GREGORIAN
BEGIN:VEVENT
DTSTART:20160903T150000Z
DTEND:20160903T180000Z
X-MICROSOFT-CDO-ALLDAYEVENT:FALSE
SUMMARY:Living History
DESCRIPTION:See demonstrations of U.S.-Mexican War era weapons\, tactics\, and soldier life. Program features live musket and artillery demonstrations. Program is dependent upon weather.
X-ALT-DESC;FMTTYPE=text/html:See demonstrations of U.S.-Mexican War era weapons\, tactics\, and soldier life. Program features live musket and artillery demonstrations. Program is dependent upon weather.
LOCATION:Palo Alto Battlefield NHP 7200 Paredes Line Road Brownsville\, TX 78520
UID:e.1294.30358
SEQUENCE:3
DTSTAMP:20260424T143215Z
URL:https://business.rgvpartnership.com/events/details/living-history-09-03-2016-30358
END:VEVENT

END:VCALENDAR
