BEGIN:VCALENDAR
VERSION:2.0
PRODID:-//ChamberMaster//Event Calendar 2.0//EN
METHOD:PUBLISH
X-PUBLISHED-TTL:P3D
REFRESH-INTERVAL:P3D
CALSCALE:GREGORIAN
BEGIN:VEVENT
DTSTART:20181013T130000Z
DTEND:20181013T160000Z
X-MICROSOFT-CDO-ALLDAYEVENT:FALSE
SUMMARY:Leo Aguilar Foundation Walk/Run for Fun
DESCRIPTION:
X-ALT-DESC;FMTTYPE=text/html:
LOCATION:Leo Aguilar Memorial Stadium Los Fresnos\, TX 78566
UID:e.1294.30424
SEQUENCE:3
DTSTAMP:20260423T030049Z
URL:https://business.rgvpartnership.com/events/details/leo-aguilar-foundation-walk-run-for-fun-30424
END:VEVENT

END:VCALENDAR
