BEGIN:VCALENDAR
VERSION:2.0
PRODID:-//ChamberMaster//Event Calendar 2.0//EN
METHOD:PUBLISH
X-PUBLISHED-TTL:P3D
REFRESH-INTERVAL:P3D
CALSCALE:GREGORIAN
BEGIN:VEVENT
DTSTART:20151116T140000Z
DTEND:20151205T180000Z
X-MICROSOFT-CDO-ALLDAYEVENT:FALSE
SUMMARY:Laguna Atascosa National Wildlife Refuge Birding Tours
DESCRIPTION:Bird Tours 8:30am - 12pm Take our birding van to birding hot spots on the refuge where private vehicles are not allowed. This tour will offer many opportunites to see waterbirds and raptors. Reservations required\, call 956-748-3607 ext 108. $4.00 for adults (16+)\, $3.00 Seniors (62+)\, Under 16 free.
X-ALT-DESC;FMTTYPE=text/html:Bird Tours 8:30am - 12pm Take our birding van to birding hot spots on the refuge where private vehicles are not allowed. This tour will offer many opportunites to see waterbirds and raptors. Reservations required\, call 956-748-3607 ext 108. $4.00 for adults (16+)\, $3.00 Seniors (62+)\, Under 16 free.
LOCATION:Laguna Atascosa National Wildlife Refuge
UID:e.1294.30261
SEQUENCE:3
DTSTAMP:20260425T032502Z
URL:https://business.rgvpartnership.com/events/details/laguna-atascosa-national-wildlife-refuge-birding-tours-11-16-2015-30261
END:VEVENT

END:VCALENDAR
