BEGIN:VCALENDAR
VERSION:2.0
PRODID:-//ChamberMaster//Event Calendar 2.0//EN
METHOD:PUBLISH
X-PUBLISHED-TTL:P3D
REFRESH-INTERVAL:P3D
CALSCALE:GREGORIAN
BEGIN:VEVENT
DTSTART:20161113T013000Z
DTEND:20161113T030000Z
X-MICROSOFT-CDO-ALLDAYEVENT:FALSE
SUMMARY:La Noche de la Guitarra
DESCRIPTION:Special Event Series
X-ALT-DESC;FMTTYPE=text/html:Special Event Series
LOCATION:TSC Arts Center 80 Fort Brown St. Brownsville\, TX. 78526
UID:e.1294.30322
SEQUENCE:3
DTSTAMP:20260424T114212Z
URL:https://business.rgvpartnership.com/events/details/la-noche-de-la-guitarra-11-12-2016-30322
END:VEVENT

END:VCALENDAR
