BEGIN:VCALENDAR
VERSION:2.0
PRODID:-//ChamberMaster//Event Calendar 2.0//EN
METHOD:PUBLISH
X-PUBLISHED-TTL:P3D
REFRESH-INTERVAL:P3D
CALSCALE:GREGORIAN
BEGIN:VEVENT
DTSTART:20151009T123000Z
DTEND:20151009T200000Z
X-MICROSOFT-CDO-ALLDAYEVENT:FALSE
SUMMARY:L2L- John Maxwell Leadership Event
DESCRIPTION:Come and experience world class teaching as the Valley brings together it's top leaders in business\, education\, government and faith for this transformational leadership and networking experience.
X-ALT-DESC;FMTTYPE=text/html:Come and experience world class teaching as the Valley brings together it&#39\;s top leaders in business\, education\, government and faith for this transformational leadership and networking experience.
LOCATION:McAllen Convention Center
UID:e.1294.30251
SEQUENCE:3
DTSTAMP:20260424T083516Z
URL:https://business.rgvpartnership.com/events/details/l2l-john-maxwell-leadership-event-10-09-2015-30251
END:VEVENT

END:VCALENDAR
