BEGIN:VCALENDAR
VERSION:2.0
PRODID:-//ChamberMaster//Event Calendar 2.0//EN
METHOD:PUBLISH
X-PUBLISHED-TTL:P3D
REFRESH-INTERVAL:P3D
CALSCALE:GREGORIAN
BEGIN:VEVENT
DTSTART:20150605T130000Z
DTEND:20150830T180000Z
X-MICROSOFT-CDO-ALLDAYEVENT:FALSE
SUMMARY:Kayak Tour of the Laguna Madre
DESCRIPTION:Learn basic kayak skills while enjoying a beautiful morning on the water! Investigate the plants and animals that call the bay home. Geared toward beginners\, kayak tours are a great way to enjoy time with friends and family in the outdoors! All equipment & instruction provided by expert kayak guides. $3/vehicle entrance fee\, $30 for adults\, $25 children 8-12. CASH or CHECK ONLY. Reservations required. Call 956-748-3607 ext 111 to make your reservation today!
X-ALT-DESC;FMTTYPE=text/html:Learn basic kayak skills while enjoying a beautiful morning on the water! Investigate the plants and animals that call the bay home. Geared toward beginners\, kayak tours are a great way to enjoy time with friends and family in the outdoors! All equipment &amp\; instruction provided by expert kayak guides. $3/vehicle entrance fee\, $30 for adults\, $25 children 8-12. CASH or CHECK ONLY. Reservations required. Call 956-748-3607 ext 111 to make your reservation today!
LOCATION:Laguna Atascosa National Wildlife Refuge 22688 Buena Vista Blvd. Los Fresnos\, TX 78566
UID:e.1294.30229
SEQUENCE:3
DTSTAMP:20260425T103436Z
URL:https://business.rgvpartnership.com/events/details/kayak-tour-of-the-laguna-madre-06-05-2015-30229
END:VEVENT

END:VCALENDAR
