BEGIN:VCALENDAR
VERSION:2.0
PRODID:-//ChamberMaster//Event Calendar 2.0//EN
METHOD:PUBLISH
X-PUBLISHED-TTL:P3D
REFRESH-INTERVAL:P3D
CALSCALE:GREGORIAN
BEGIN:VEVENT
DTSTART:20140906T130000Z
DTEND:20141025T180000Z
X-MICROSOFT-CDO-ALLDAYEVENT:FALSE
SUMMARY:Kayak the Laguna Madre
DESCRIPTION:September-October Saturdays- 8:00am - 1:00pm Learn basic kayaking skills. Investigate the bay plants and animals. Enjoy time outside in nature with friends and family. Discover your local National Wildlife Refuge! Guided tours include all equipment and instruction. MAKE YOUR RESERVATIONS TODAY! Call 956-748-3607\, Ext. 111 For more information visit: www.fws.gov/refuge/laguna_atascosa
X-ALT-DESC;FMTTYPE=text/html:September-October Saturdays- 8:00am - 1:00pm Learn basic kayaking skills. Investigate the bay plants and animals. Enjoy time outside in nature with friends and family. Discover your local National Wildlife Refuge! Guided tours include all equipment and instruction. MAKE YOUR RESERVATIONS TODAY! Call 956-748-3607\, Ext. 111 For more information visit: www.fws.gov/refuge/laguna_atascosa
LOCATION:Laguna Atascosa National Wildlife Refuge 22688 Buena Vista Blvd Los Fresnos\, TX 78566
UID:e.1294.30061
SEQUENCE:3
DTSTAMP:20260426T023957Z
URL:https://business.rgvpartnership.com/events/details/kayak-the-laguna-madre-09-06-2014-30061
END:VEVENT

END:VCALENDAR
