BEGIN:VCALENDAR
VERSION:2.0
PRODID:-//ChamberMaster//Event Calendar 2.0//EN
METHOD:PUBLISH
X-PUBLISHED-TTL:P3D
REFRESH-INTERVAL:P3D
CALSCALE:GREGORIAN
BEGIN:VEVENT
DTSTART:20170214T013000Z
DTEND:20170214T030000Z
X-MICROSOFT-CDO-ALLDAYEVENT:FALSE
SUMMARY:Katherine Decker\, cello & Juan Pablo Andrade\, piano
DESCRIPTION:Faculty Artist Series
X-ALT-DESC;FMTTYPE=text/html:Faculty Artist Series
LOCATION:TSC Arts Center 80 Fort Brown St. Brownsville\, TX. 78520
UID:e.1294.30335
SEQUENCE:3
DTSTAMP:20260424T073340Z
URL:https://business.rgvpartnership.com/events/details/katherine-decker-cello-juan-pablo-andrade-piano-02-13-2017-30335
END:VEVENT

END:VCALENDAR
