BEGIN:VCALENDAR
VERSION:2.0
PRODID:-//ChamberMaster//Event Calendar 2.0//EN
METHOD:PUBLISH
X-PUBLISHED-TTL:P3D
REFRESH-INTERVAL:P3D
CALSCALE:GREGORIAN
BEGIN:VEVENT
DTSTART:20170915T170000Z
DTEND:20170916T170000Z
X-MICROSOFT-CDO-ALLDAYEVENT:FALSE
SUMMARY:Jaime J. Zapata Fishing Tournament
DESCRIPTION:This one-day bay fishing tournament is a boat/team tournament which strives to bring law enforcement agents and their friends together. It will begin with a shotgun start at Jim's Pier on South Padre Island at 6:30 am on Sept. 16th. Late registration and the awards dinner and ceremonies will be held at at Louie's Backyard. Boat/teams will be restricted to weighing in the single heaviest redfish\, trout and flounder per boat. Teams will consist of a maximum of four anglers. Teams may hire guides\, but the guides will not be eligible to fish. Custom awards by renowned artist Don Breeden will be presented Saturday night at the awards dinner.
X-ALT-DESC;FMTTYPE=text/html:This one-day bay fishing tournament is a boat/team tournament which strives to bring law enforcement agents and their friends together. It will begin with a shotgun start at Jim&#39\;s Pier on South Padre Island at 6:30 am on Sept. 16th. Late registration and the awards dinner and ceremonies will be held at at Louie&#39\;s Backyard. Boat/teams will be restricted to weighing in the single heaviest redfish\, trout and flounder per boat. Teams will consist of a maximum of four anglers. Teams may hire guides\, but the guides will not be eligible to fish. Custom awards by renowned artist Don Breeden will be presented Saturday night at the awards dinner.
LOCATION:Jim's Pier & Louie's Backyard
UID:e.1294.30391
SEQUENCE:3
DTSTAMP:20260423T223722Z
URL:https://business.rgvpartnership.com/events/details/jaime-j-zapata-fishing-tournament-30391
END:VEVENT

END:VCALENDAR
